BEGIN:VCALENDAR
PRODID:scnitm
VERSION:2.0
BEGIN:VTIMEZONE
TZID:my/AEST
BEGIN:STANDARD
DTSTART:19700101T010000
TZOFFSETFROM:+1000
TZOFFSETTO:+1000
END:STANDARD
END:VTIMEZONE
BEGIN:VTIMEZONE
TZID:my/AEDT
BEGIN:STANDARD
DTSTART:19700101T010000
TZOFFSETFROM:+1100
TZOFFSETTO:+1100
END:STANDARD
END:VTIMEZONE
BEGIN:VEVENT
UID:scnitm-3925527-1776934950-1
DTSTART;TZID=my/AEST:20260424T120000
DTEND;TZID=my/AEST:20260424T130000
SUMMARY:Quantum Littlewood correspondences
DESCRIPTION:See scnews item http://external.maths.usyd.edu.au/s/scnitm/goertzen-AlgebraSeminar-Jing-Quant
LOCATION:Carslaw 175
END:VEVENT
END:VCALENDAR

